BEGIN:VCALENDAR
VERSION:2.0
PRODID:-//Chinmaya Mission Chicago - Badri - ECPv6.3.5//NONSGML v1.0//EN
CALSCALE:GREGORIAN
METHOD:PUBLISH
X-ORIGINAL-URL:https://mychinmaya.org
X-WR-CALDESC:Events for Chinmaya Mission Chicago - Badri
REFRESH-INTERVAL;VALUE=DURATION:PT1H
X-Robots-Tag:noindex
X-PUBLISHED-TTL:PT1H
BEGIN:VTIMEZONE
TZID:America/Chicago
BEGIN:DAYLIGHT
TZOFFSETFROM:-0600
TZOFFSETTO:-0500
TZNAME:CDT
DTSTART:20260308T080000
END:DAYLIGHT
BEGIN:STANDARD
TZOFFSETFROM:-0500
TZOFFSETTO:-0600
TZNAME:CST
DTSTART:20261101T070000
END:STANDARD
END:VTIMEZONE
BEGIN:VEVENT
DTSTART;TZID=America/Chicago:20260307T100000
DTEND;TZID=America/Chicago:20260307T130000
DTSTAMP:20260423T161810
CREATED:20251230T030020Z
LAST-MODIFIED:20260219T020535Z
UID:11728-1772877600-1772888400@mychinmaya.org
SUMMARY:Holi Celebrations
DESCRIPTION:
URL:https://mychinmaya.org/events/holi-celebrations-3/
LOCATION:Chinmaya Abhyudaya Retreat Center\, 11S250 Kingery Hwy\, Willowbrook\, IL\, 60527\, United States
CATEGORIES:Cultural
ATTACH;FMTTYPE=image/jpeg:https://dp3wphqn1yqa5.cloudfront.net/chinmaya_website/2025/12/18200507/Holi2026.jpg
END:VEVENT
END:VCALENDAR